BEGIN:VCALENDAR
VERSION:2.0
CALSCALE:GREGORIAN
PRODID:adamgibbons/ics
METHOD:PUBLISH
X-PUBLISHED-TTL:PT1H
BEGIN:VEVENT
UID:76@tricity.dance
SUMMARY:SWING NA PERONIE | potańcówka & live music
DTSTAMP:20260420T154603Z
DTSTART:20240816T180000Z
DESCRIPTION:Przejdź na oryginalną stronę\n\nWygenerowano Fri Jul 05 2024 18
	:18:10 GMT+0200 (Central European Summer Time)\nŹródło
URL:https://tricity.dance/event/swing-na-peronie-or-potancowka-and-live-mus
	ic-1
GEO:54.38283055;18.60521765152803
LOCATION:Stacja Food Hall - ulica Jana Kilińskiego 4\, 80-452 Gdańsk\, Pols
	ka
STATUS:CONFIRMED
CATEGORIES:
X-ALT-DESC;FMTTYPE=text/html:<br>    <a href=""><br>        <br>           
	 Przejdź na oryginalną stronę<br>        <br>    </a><br><br><br><br><br><
	br><br><i>Wygenerowano Fri Jul 05 2024 18:18:10 GMT+0200 (Central European
	 Summer Time)<br><br><a href="">Źródło</a><br></i>
END:VEVENT
BEGIN:VEVENT
UID:90@tricity.dance
SUMMARY:SWING NA PERONIE | potańcówka & live music
DTSTAMP:20260420T154603Z
DTSTART:20240712T180000Z
DESCRIPTION:Przejdź na oryginalną stronę\n\nWygenerowano Sat Jul 06 2024 14
	:04:52 GMT+0200 (Central European Summer Time)\nŹródło
URL:https://tricity.dance/event/swing-na-peronie-or-potancowka-and-live-mus
	ic-2
GEO:54.38283055;18.60521765152803
LOCATION:Stacja Food Hall - ulica Jana Kilińskiego 4\, 80-452 Gdańsk\, Pols
	ka
STATUS:CONFIRMED
CATEGORIES:Muzyka na żywo,Potańcówka,Gdańsk
X-ALT-DESC;FMTTYPE=text/html:<br>    <a href=""><br>        <br>           
	 Przejdź na oryginalną stronę<br>        <br>    </a><br><br><br><br><br><
	br><br><i>Wygenerowano Sat Jul 06 2024 14:04:52 GMT+0200 (Central European
	 Summer Time)<br><br><a href="">Źródło</a><br></i>
END:VEVENT
BEGIN:VEVENT
UID:28@tricity.dance
SUMMARY:Swing na Peronie
DTSTAMP:20260420T154603Z
DTSTART:20240614T180000Z
DTEND:20240614T220000Z
DESCRIPTION:KIEDY: w wybrane piątki / raz w miesiącu\nO KTÓREJ: 20:00 - 02:
	00\nGDZIE: Stacja Food Hall / Peron 5\n\n- wstęp wolny -\n\nNie ma ogranic
	zeń\, każdy jest mile widziany. Wygodne buty i dobry humor to\njedyne\, cz
	ego potrzebujesz Bez stresu... Wprowadzimy Cię od podstaw w świat\nLindy H
	opa\, Boogie Woogie\, Balboa! Pierwsze słyszysz? Nic nie szkodzi\, bo nie 
	o\nto chodzi!\n\n20:00 - krótka lekcja Lindy Hop/Boogie Woogie/Balboa od p
	odstaw -> nie musisz\nsię zapisywać ani mieć pary\, po prostu przyjdź!\n\n
	20:30 - potańcówka w rytmie swinga przy żywym akompaniamencie Trójmiejskie
	j\nKapeli Swingowej.\n\nTańczymy do upadłego!\n\nDaj się zarazić swingowym
	 bakcylem! Nie musisz nic umieć (większość z nas tak\nwłaśnie zaczynała)\,
	 a jeśli plączą Ci się nogi - wspólnie je rozplączemy\nUdowodnimy Ci\, że 
	taniec może być prosty i przyjemny\, a to wszystko w luźnej\natmosferze i 
	przy dźwiękach porywającego do tańca swinga.\n\n➤ zobacz\, jak wygląda Lin
	dy Hop: https://youtu.be/LRx2_lVPPy0\n[https://youtu.be/LRx2_lVPPy0]\n\nNa
	 wspólne tańce zaprasza Swing Revolution Trójmiasto - społeczność pozytywn
	ie\nzakręconych ludzi\, którzy nie potrafią usiedzieć na miejscu\, gdy do 
	ich uszu\ndocierają swingowe rytmy.\n\nwww.swingrevolution.pl [http://www.
	swingrevolution.pl/]
URL:https://tricity.dance/event/swing-na-peronie-3
GEO:54.38283055;18.60521765152803
LOCATION:Stacja Food Hall - ulica Jana Kilińskiego 4\, 80-452 Gdańsk\, Pols
	ka
STATUS:CONFIRMED
CATEGORIES:Wrzeszcz,Swing,Muzyka na żywo,Gdańsk
X-ALT-DESC;FMTTYPE=text/html:<p>KIEDY: w wybrane piątki / raz w miesiącu<br
	>O KTÓREJ: 20:00 - 02:00<br>GDZIE: Stacja Food Hall / Peron 5</p><p>- wstę
	p wolny -</p><p>Nie ma ograniczeń, każdy jest mile widziany. Wygodne buty 
	i dobry humor to jedyne, czego potrzebujesz Bez stresu... Wprowadzimy Cię 
	od podstaw w świat Lindy Hopa, Boogie Woogie, Balboa! Pierwsze słyszysz? N
	ic nie szkodzi, bo nie o to chodzi!</p><p>20:00 - krótka lekcja Lindy Hop/
	Boogie Woogie/Balboa od podstaw -&gt; nie musisz się zapisywać ani mieć pa
	ry, po prostu przyjdź!</p><p>20:30 - potańcówka w rytmie swinga przy żywym
	 akompaniamencie Trójmiejskiej Kapeli Swingowej.</p><p>Tańczymy do upadłeg
	o!</p><p>Daj się zarazić swingowym bakcylem! Nie musisz nic umieć (większo
	ść z nas tak właśnie zaczynała), a jeśli plączą Ci się nogi - wspólnie je 
	rozplączemy Udowodnimy Ci, że taniec może być prosty i przyjemny, a to wsz
	ystko w luźnej atmosferze i przy dźwiękach porywającego do tańca swinga.</
	p><p>➤ zobacz, jak wygląda Lindy Hop: <a href="https://youtu.be/LRx2_lVPPy
	0" target="_blank">https://youtu.be/LRx2_lVPPy0</a></p><p>Na wspólne tańce
	 zaprasza Swing Revolution Trójmiasto - społeczność pozytywnie zakręconych
	 ludzi, którzy nie potrafią usiedzieć na miejscu, gdy do ich uszu docieraj
	ą swingowe rytmy.</p><p><a href="http://www.swingrevolution.pl/" target="_
	blank">www.swingrevolution.pl</a></p>
END:VEVENT
BEGIN:VEVENT
UID:21@tricity.dance
SUMMARY:Swing na Peronie
DTSTAMP:20260420T154603Z
DTSTART:20240510T180000Z
DTEND:20240510T220000Z
DESCRIPTION:KIEDY: w wybrane piątki / raz w miesiącu\nO KTÓREJ: 20:00 - 02:
	00\nGDZIE: Stacja Food Hall / Peron 5\n\n- wstęp wolny -\n\nNie ma ogranic
	zeń\, każdy jest mile widziany. Wygodne buty i dobry humor to\njedyne\, cz
	ego potrzebujesz Bez stresu... Wprowadzimy Cię od podstaw w świat\nLindy H
	opa\, Boogie Woogie\, Balboa! Pierwsze słyszysz? Nic nie szkodzi\, bo nie 
	o\nto chodzi!\n\n20:00 - krótka lekcja Lindy Hop/Boogie Woogie/Balboa od p
	odstaw -> nie musisz\nsię zapisywać ani mieć pary\, po prostu przyjdź!\n\n
	20:30 - potańcówka w rytmie swinga przy żywym akompaniamencie Trójmiejskie
	j\nKapeli Swingowej.\n\nTańczymy do upadłego!\n\nDaj się zarazić swingowym
	 bakcylem! Nie musisz nic umieć (większość z nas tak\nwłaśnie zaczynała)\,
	 a jeśli plączą Ci się nogi - wspólnie je rozplączemy\nUdowodnimy Ci\, że 
	taniec może być prosty i przyjemny\, a to wszystko w luźnej\natmosferze i 
	przy dźwiękach porywającego do tańca swinga.\n\n➤ zobacz\, jak wygląda Lin
	dy Hop: https://youtu.be/LRx2_lVPPy0\n[https://youtu.be/LRx2_lVPPy0]\n\nNa
	 wspólne tańce zaprasza Swing Revolution Trójmiasto - społeczność pozytywn
	ie\nzakręconych ludzi\, którzy nie potrafią usiedzieć na miejscu\, gdy do 
	ich uszu\ndocierają swingowe rytmy.\n\nwww.swingrevolution.pl [http://www.
	swingrevolution.pl/]
URL:https://tricity.dance/event/swing-na-peronie-2
GEO:54.38283055;18.60521765152803
LOCATION:Stacja Food Hall - ulica Jana Kilińskiego 4\, 80-452 Gdańsk\, Pols
	ka
STATUS:CONFIRMED
CATEGORIES:Swing,Wrzeszcz,Muzyka na żywo,Gdańsk
X-ALT-DESC;FMTTYPE=text/html:<p>KIEDY: w wybrane piątki / raz w miesiącu<br
	>O KTÓREJ: 20:00 - 02:00<br>GDZIE: Stacja Food Hall / Peron 5</p><p>- wstę
	p wolny -</p><p>Nie ma ograniczeń, każdy jest mile widziany. Wygodne buty 
	i dobry humor to jedyne, czego potrzebujesz Bez stresu... Wprowadzimy Cię 
	od podstaw w świat Lindy Hopa, Boogie Woogie, Balboa! Pierwsze słyszysz? N
	ic nie szkodzi, bo nie o to chodzi!</p><p>20:00 - krótka lekcja Lindy Hop/
	Boogie Woogie/Balboa od podstaw -&gt; nie musisz się zapisywać ani mieć pa
	ry, po prostu przyjdź!</p><p>20:30 - potańcówka w rytmie swinga przy żywym
	 akompaniamencie Trójmiejskiej Kapeli Swingowej.</p><p>Tańczymy do upadłeg
	o!</p><p>Daj się zarazić swingowym bakcylem! Nie musisz nic umieć (większo
	ść z nas tak właśnie zaczynała), a jeśli plączą Ci się nogi - wspólnie je 
	rozplączemy Udowodnimy Ci, że taniec może być prosty i przyjemny, a to wsz
	ystko w luźnej atmosferze i przy dźwiękach porywającego do tańca swinga.</
	p><p>➤ zobacz, jak wygląda Lindy Hop: <a href="https://youtu.be/LRx2_lVPPy
	0" target="_blank">https://youtu.be/LRx2_lVPPy0</a></p><p>Na wspólne tańce
	 zaprasza Swing Revolution Trójmiasto - społeczność pozytywnie zakręconych
	 ludzi, którzy nie potrafią usiedzieć na miejscu, gdy do ich uszu docieraj
	ą swingowe rytmy.</p><p><a href="http://www.swingrevolution.pl/" target="_
	blank">www.swingrevolution.pl</a></p>
END:VEVENT
END:VCALENDAR
